BEGIN:VCALENDAR
VERSION:2.0
METHOD:PUBLISH
BEGIN:VEVENT
UID:WILD_APRICOT_EVENT_2968879_SESSION_1
DTSTART:20180804T230000Z
DTEND:20180901T060000Z
SUMMARY:Sculpture in the Gaol 2018
LOCATION:Trial Bay Gaol\, South West Rocks
DESCRIPTION:http://mvarts.org.au/event-2968879\n\n\n\n  A sculpture exhibition in a location like no other.\n\n  Dose up on culture and heritage in one easy fix! Truly unique location with a fascinating history\, restaurant and campground situated in the beautiful Arakoon National Park.\n  Gala opening on Sunday\, August 5 with music markets food and fun! Entry $2.\n
DTSTAMP:20190227T070050Z
END:VEVENT
END:VCALENDAR
