BEGIN:VCALENDAR
VERSION:2.0
METHOD:PUBLISH
BEGIN:VEVENT
UID:WILD_APRICOT_EVENT_2990804_SESSION_1
DTSTART:20180812T040000Z
DTEND:20180812T040000Z
SUMMARY:Sydney Conservatorium of Music Saxophone Quartet
LOCATION:Oddfellows Hall\, 22 Kemp St\, West Kempsey
DESCRIPTION:http://mvarts.org.au/event-2990804\n\n\n\n  This year’s New Northern Tour by students of the Sydney Conservatorium of Music will feature a saxophone quartet – STAB – which are the names of the four student members – Sam\, Tom\, Angus and Brian.\n  They will play an eclectic mix of classical\, modern classical and jazz\, and they are sure to delight as this tour does every year. Come and hear these fine young musicians in the acoustic wonder that is the Oddfellows Hall!\n  Don’t miss out! Grab a ticket today!\n  Repertoire\n Quartet\n Premiere Quatuor\, Op. 53 by Jean Baptiste Singelee (1857)\n Dr. Tarkus’ Atom Hearts Club Quartet by Takashi Yoshimatsu\n Songs for Tony by Michael Nyman\n July by Michael Torke\n Quatuor pour Saxophones Op. 109 by Alexander Glazunov (1932)\n Quatuor pour Saxophones by Pierre Max Dubois (1956)\n Little Fugue in G Minor [BWV 578] by Johan Sebastian Bach (1703-1707)\n  Duo\n Black by Marc Mellits (2008)\n  Solos\n Pequena Czardas by Pedro Iturralde\n Black and Blue by Barry Cockroft\n Ku Ku by Barry Cockroft\n Rock Me by Barry Cockroft\n Tango Etudes by Astor Piazolla\n
DTSTAMP:20190227T070026Z
END:VEVENT
END:VCALENDAR
