BEGIN:VCALENDAR
VERSION:2.0
METHOD:PUBLISH
BEGIN:VEVENT
UID:WILD_APRICOT_EVENT_3102446_SESSION_1
DTSTART:20181113T233000Z
DTEND:20181125T050000Z
SUMMARY:Epiphany: art exhibition by Mark Pryor
LOCATION:Macleay Valley Community Art Gallery in Gladstone
DESCRIPTION:http://mvarts.org.au/event-3102446\n\n\n\n  "Epiphany" is an exhibition of new watercolours and oils by MVAC member Mark Pryor. The works in the exhibition approach the concept of an epiphany from different perspectives and explore the stillness at the centre of all things. The majority of the work is an emotional response to this stillness in the natural environment. as a result each work is more of a"moment" rather than a representational scene.\n\n
DTSTAMP:20190227T065725Z
END:VEVENT
END:VCALENDAR
