BEGIN:VCALENDAR
VERSION:2.0
METHOD:PUBLISH
BEGIN:VEVENT
UID:WILD_APRICOT_EVENT_3116151_SESSION_1
DTSTART:20181209T030000Z
DTEND:20181209T060000Z
SUMMARY:Celebrating A Decade of Harmony
LOCATION:Oddfellows Hall
DESCRIPTION:http://mvarts.org.au/event-3116151\n\nCelebrating 10 years of harmony for this local mid-north coast a'cappella group. "Spokes" formerly known as "Wednesday" will be entertaining with friends\, with songs to warm the heart and stir the soul. \n  Entry fee is $10 and includes afternoon tea.\n  \n\n
DTSTAMP:20190227T065601Z
END:VEVENT
END:VCALENDAR
