BEGIN:VCALENDAR
VERSION:2.0
METHOD:PUBLISH
BEGIN:VEVENT
UID:WILD_APRICOT_EVENT_3117119_SESSION_1
DTSTART:20181117T210000Z
DTEND:20181118T030000Z
SUMMARY:Gladstone Quality Market
LOCATION:Gladstone
DESCRIPTION:http://mvarts.org.au/event-3117119\n\n\n\n  A showcase to sell local\, quality home made and grown products.\n\n  Live music!\n  Tasty foods!\n  Bargains!\n
DTSTAMP:20190227T065654Z
END:VEVENT
END:VCALENDAR
