BEGIN:VCALENDAR
VERSION:2.0
METHOD:PUBLISH
BEGIN:VEVENT
UID:WILD_APRICOT_EVENT_3216807_SESSION_1
DTSTART:20190511T093000Z
DTEND:20190511T093000Z
SUMMARY:William Crighton & Beans on Toast
LOCATION:South West Roxy Cinema
DESCRIPTION:http://mvarts.org.au/event-3216807\n\n  Acclaimed singer songwriter and unique Australian performer William Crighton embarks on his first headline solo tour throughout April and May 2019. Combining traditional sounds with unexpected experimentation he has released two albums since 2016\, the latest of which ‘Empire’ was labelled by Dave Faulkner of the Hoodoo Gurus as ‘The best album of 2018\, local or international’. He has toured extensively throughout Australia\, Europe\, UK\, Canada and the US over the last two years and is rapidly building a reputation as a must see artist.\n  On this tour he will be playing songs from both albums as well as new material on a variety of instruments.\n  WATCH VIDEO\n  William Crighton will be joined by UK artist ‘Beans on Toast’ who is a leading torch in the new wave of UK folk artists. The pair met whilst playing at ‘Boomtown’ in the UK in 2018. These will be very memorable shows.\n  After more than 10 years in the game\, English songwriter Beans on Toast has become something of a cult figure. He’s a hippy\, a punk\, a poet\, a drunk\, a die-hard romantic and an eternal optimist. Singing simple songs that tackle big issues. Political protest songs for the modern day\, honest and open love songs. Songs that will make you laugh\, but also make you think with no holds barred honest lyrics and quick wit.\n  WATCH VIDEO\n
DTSTAMP:20190227T065206Z
END:VEVENT
END:VCALENDAR
