BEGIN:VCALENDAR
VERSION:2.0
METHOD:PUBLISH
BEGIN:VEVENT
UID:WILD_APRICOT_EVENT_2769072_SESSION_1
DTSTART:20180224T083000Z
DTEND:20180224T083000Z
SUMMARY:Cyril B Bunter at the HOT CLUB
LOCATION:Oddfellows Hall\, 22 Kemp St\, West Kempsey
DESCRIPTION:https://mvarts.org.au/event-2769072\n\n\n\n  FOUNDED 1972 • DISBANDED 1985 • REUNITED 2013 • HOUSEROCKING 2017\n  Celebrating the release of LOCO•MOTIVE Their first studio album since 1985 - commemorating the band’s 45th Anniversary!\n  GARY LOTHIAN • Lead and slide guitars\n JIMMY BEE • Bass guitar and vocal\n ROSSCOE CLARK • Drums\n ALI PENNEY • Hammond organ\, piano\, vocal\n\n  You won't want to miss this! BOOK NOW!\n  \n\n
DTSTAMP:20190227T065115Z
END:VEVENT
END:VCALENDAR
