BEGIN:VCALENDAR
VERSION:2.0
METHOD:PUBLISH
BEGIN:VEVENT
UID:WILD_APRICOT_EVENT_2777843_SESSION_1
DTSTART:20181123T083000Z
DTEND:20181123T083000Z
SUMMARY:The DATE BROTHERS at the HOT CLUB
LOCATION:Oddfellows Hall\, 22 Kemp St\, West Kempsey
DESCRIPTION:https://mvarts.org.au/event-2777843\n\n\n\n  The Date Brothers are Ian Date on guitar\, trumpet and vocals\, and Nigel Date on guitar. They are Australia’s leading exponents of the gypsy jazz guitar style.\n  Ian is a world renowned guitarist who’s shared the stage with many of the greatest international jazz musicians over his 40 odd year career.\n  The brothers get together in Australia once or twice a year as well as overseas\, and that's about to happen here at the HOT CLUB in Kempsey.\n  Ian is the musical patron of the Oz Manouche gypsy guitar festival held in Brisbane each November which brings together the best of Australian Django style players as well as international guests.\n\n  The brothers have performed at a stack of music festivals and held concerts all over the place.\n\n  Recent recording collaborations for the Date Brothers include Tommy Emmanuel and James Morrison.\n  You won't want to miss this! BOOK NOW!\n
DTSTAMP:20190227T064325Z
END:VEVENT
END:VCALENDAR
