BEGIN:VCALENDAR
VERSION:2.0
METHOD:PUBLISH
BEGIN:VEVENT
UID:WILD_APRICOT_EVENT_2799535_SESSION_1
DTSTART:20180310T083000Z
DTEND:20180310T083000Z
SUMMARY:Honey & Knives at the HOT CLUB
LOCATION:Oddfellows Hall\, 22 Kemp St\, West Kempsey
DESCRIPTION:https://mvarts.org.au/event-2799535\n\n\n\n  Honey & Knives are a five-piece folkgrass band driven by the skilled vocal harmonies of front women Toke and Jacquie. \n  Based in Bellingen\, they have featured at various folk festivals along the east coast of NSW - from Woodford to Mullum to Cygnet and stages everywhere in between (including a bathroom in Old Bar... YouTube it).\n  The band is known for mixing raw truths with a rollicking good time and innate ability to coordinate clothing for visually spectacular results. \n  A feast for the senses: Honey & Knives.​\n  Music\, videos and gig information can be found at\;\n  www.honeyandknives.com\n  www.facebook.com/honeyandknives\n  Honey and Knives are:\n  - Toke Brunnekreef – vocals\, ukulele and percussion\n  - Jacquie Gill – vocals\, violin\, viola and kazoo\n  - Steve Pratt – 5 string and tenor banjo\, mandolin\, dobro and oil can slide\n  - Aaron Tonna – acoustic guitar\, double bass and banjo\n  - Tom Brunnekreef – double bass\, acoustic guitar and vocals\n\n
DTSTAMP:20190227T065104Z
END:VEVENT
END:VCALENDAR
