BEGIN:VCALENDAR
VERSION:2.0
METHOD:PUBLISH
BEGIN:VEVENT
UID:WILD_APRICOT_EVENT_2829745_SESSION_1
DTSTART:20181019T083000Z
DTEND:20181019T083000Z
SUMMARY:Darren Jack Band at the HOT CLUB
LOCATION:Oddfellows Hall\, 22 Kemp St\, West Kempsey
DESCRIPTION:https://mvarts.org.au/event-2829745\n\n\n\n     Multiple award-winning Australian Blues musician Darren Jack has been electrifying audiences with his signature powerhouse Rock ‘n’ Blues and original music for over twenty years.\n\n    Darren has appeared in most major Blues Festivals in Australia\, including: East Coast Blues Festival – Byron Bay\, Great Southern Blues Festival – Narooma\, Thredbo Blues Festival\, Woodford Folk Festival\, Australian Blues Music Festival – Goulburn\, Southern Blues and Roots Festival – Hobart\, Gympie Music Festival\, Cross Roads Festival – Central Coast\, Manly Jazz Festival\, Blues on Broadbeach – Broadbeach\, Bridgetown Blues Festival W.A. & The Forth Valley Blues Festival Launceston\, Wangaratta Jazz and Blues Festival and the Sydney Blues and Roots Festival.\n\n    And now\, at the HOT CLUB right here in West Kempsey!\n     \n\n
DTSTAMP:20190227T064620Z
END:VEVENT
END:VCALENDAR
