BEGIN:VCALENDAR
VERSION:2.0
METHOD:PUBLISH
BEGIN:VEVENT
UID:WILD_APRICOT_EVENT_2853445_SESSION_1
DTSTART:20180325T000000Z
DTEND:20180325T000000Z
SUMMARY:Stuarts Point Players meeting
LOCATION:Arakoon
DESCRIPTION:https://mvarts.org.au/event-2853445\n\nStuarts Point Players first meeting for 2018 is on Sunday 25th March at Arakoon\, South West Rocks. Meet at country club carpark at 11am or drive on to Little Beach. BYO plate to share & own cutlery\, drinks etc.\n Please also bring along your ideas for future productions. \n  See y'all there!\n\n
DTSTAMP:20190227T065032Z
END:VEVENT
END:VCALENDAR
