BEGIN:VCALENDAR
VERSION:2.0
METHOD:PUBLISH
BEGIN:VEVENT
UID:WILD_APRICOT_EVENT_2857088_SESSION_1
DTSTART:20180506T040000Z
DTEND:20180506T040000Z
SUMMARY:Jan Preston at Oddfellows
LOCATION:Oddfellows Hall\, West Kempsey
DESCRIPTION:https://mvarts.org.au/event-2857088\n\nJAN PRESTON\, the knockout boogie pianist with a rich resonant voice\, is returning to Kempsey for one concert only at the ODDFELLOWS HALL on SUNDAY MAY 6th @ 2pm.\n  Jan has captured audiences around the world with her originality\, her energy\, and her sparkling charm and gentle wit.\n  From a background in classical music with a long-term interest in composition and song writing\, Jan Preston has created her own style\, not only through her piano playing but also her singing and songwriting\, which now sees her shine as a truly Antipodean original.\n  Winner of 5 music awards\, Jan has sold out concerts throughout Australia\, NZ\, Europe and the UK\, composes music for film and TV\, and performs side by side with the greatest contemporary boogie piano players in the world today.\n  After breaking both her wrists in 2016\, Jan is back touring with the launch of her new CD\, appropriately called ‘Play It Again Jan’.\n  “An inspirational and gifted pianist\, performer and entertainer\,…..her playing is as flawless as it is loose and joyful\,” Rhythms Magazine.\n  LIsten: http://youtu.be/GJFT0MoLvug\n  *This is a benefit concert for Save Our Macleay River (SOMR).\n  \n\n
DTSTAMP:20190227T064950Z
END:VEVENT
END:VCALENDAR
