BEGIN:VCALENDAR
VERSION:2.0
METHOD:PUBLISH
BEGIN:VEVENT
UID:WILD_APRICOT_EVENT_2912061_SESSION_1
DTSTART:20180428T090000Z
DTEND:20180428T090000Z
SUMMARY:Oddfellows Unplugged
LOCATION:Oddfellows Hall
DESCRIPTION:https://mvarts.org.au/event-2912061\n\n\n\n  The place to get your performance started!\n  Great acoustics\, friendly people and warm applause!\n  Bring your friends to cheer you on!\n  $7 per person\, $5 concession\, light supper is included.\n  \n\n
DTSTAMP:20260424T161824Z
END:VEVENT
END:VCALENDAR
