BEGIN:VCALENDAR
VERSION:2.0
METHOD:PUBLISH
BEGIN:VEVENT
UID:WILD_APRICOT_EVENT_2912120_SESSION_1
DTSTART:20180518T080000Z
DTEND:20180518T080000Z
SUMMARY:A Mighty Force
LOCATION:Oddfellows Hall
DESCRIPTION:https://mvarts.org.au/event-2912120\n\n\n\n  A 2018 film documentary revealing an unstoppable movement for change.\n  Guest Speakers Jeremy Buckingham & Cherry Muddle.\n  *Hosted by Living Sustainably Macleay Valley Volunteers\n  \n\n
DTSTAMP:20190227T064940Z
END:VEVENT
END:VCALENDAR
