BEGIN:VCALENDAR
VERSION:2.0
METHOD:PUBLISH
BEGIN:VEVENT
UID:WILD_APRICOT_EVENT_2915120_SESSION_1
DTSTART:20180606T140000Z
DTEND:20180611T140000Z
SUMMARY:Live & Local
LOCATION:Macleay Valley
DESCRIPTION:https://mvarts.org.au/event-2915120\n\n\n  IT'S BACK! FULL PROGRAM HERE!\n  Live and Local brings live music into venues across the Macleay. The program aims to promote local artists through a family- friendly\, accessible event\, whilst showcasing the hospitality and retail experiences the Macleay has to offer.\n\n  This project has been made possible by the NSW Government through Create NSW\, the Live Music Office and Kempsey Shire Council.\n  Supported by the Macleay Valley Business Chamber\, The South West Rocks Chamber of Commerce\, Macleay Valley Arts Council and South West Rocks Arts Council.\n
DTSTAMP:20190227T064857Z
END:VEVENT
END:VCALENDAR
