BEGIN:VCALENDAR
VERSION:2.0
METHOD:PUBLISH
BEGIN:VEVENT
UID:WILD_APRICOT_EVENT_2947780_SESSION_1
DTSTART:20180604T080000Z
DTEND:20180604T080000Z
SUMMARY:Stuarts Point Players auditions
LOCATION:Stuarts Point Community Hall
DESCRIPTION:https://mvarts.org.au/event-2947780\n\n  The Players have decided to produce two Australian one-act plays this season. The plays will be presented in one performance separated by an interval. The first will be Asylum by Tony Erhardt\, and the second will be Stroke by Mark Lucas. \n Asylum has a cast of four teenage females\, one adult female and one adult male. The adult male in this play has no lines\, so would suit someone who wants to get on stage but is new to the game.\n Stroke has a cast of four adults\, three women and one man.\n Both plays contain strong language.\n See you all there!\n\n  *above pic is from last season. there will be no men in tights this time.\n
DTSTAMP:20190227T064908Z
END:VEVENT
END:VCALENDAR
