BEGIN:VCALENDAR
VERSION:2.0
METHOD:PUBLISH
BEGIN:VEVENT
UID:WILD_APRICOT_EVENT_3031457_SESSION_1
DTSTART:20180817T220000Z
DTEND:20180818T040000Z
SUMMARY:Gladstone Quality Markets
LOCATION:Gladstone
DESCRIPTION:https://mvarts.org.au/event-3031457\n\n\n\n  A showcase to sell local\, quality home made and grown products.\n\n  Live music!\n  Tasty foods!\n
DTSTAMP:20190227T064736Z
END:VEVENT
END:VCALENDAR
