BEGIN:VCALENDAR
VERSION:2.0
METHOD:PUBLISH
BEGIN:VEVENT
UID:WILD_APRICOT_EVENT_3055152_SESSION_1
DTSTART:20180916T040000Z
DTEND:20180916T040000Z
SUMMARY:Sunday Sessions feat. Delma & Pete
LOCATION:Oddfellows Hall\, 22 Kemp St\, West Kempsey
DESCRIPTION:https://mvarts.org.au/event-3055152\n\nDelma & Pete each have decades of experience in more bands than either of them care to remember! And that means the duo can play almost anything\, and that's exactly what they do with super smooth renditions of most of your all time favourite tunes.\n\n  The perfect start to our easy listening Sunday Sessions! \n  Grab your wine or your thermos\, maybe a few snacks\, and get on down to Oddfellows Hall for an afternoon of sheer delight. See you there!\n  Listen here.\n
DTSTAMP:20260424T161710Z
END:VEVENT
END:VCALENDAR
