BEGIN:VCALENDAR
VERSION:2.0
METHOD:PUBLISH
BEGIN:VEVENT
UID:WILD_APRICOT_EVENT_3058122_SESSION_1
DTSTART:20181021T030000Z
DTEND:20181021T030000Z
SUMMARY:Sunday Sessions feat. Liam Moylan
LOCATION:Oddfellows Hall\, 22 Kemp St\, West Kempsey
DESCRIPTION:https://mvarts.org.au/event-3058122\n\n\n\n  Liam Moylan has been performing Acoustic\, Folk\, Soul and Rock for five years now. He has a catalogue of original music and an arsenal of covers that he plays in his very own style\, not just mimicking the original artists. \n\n  Liam is also the manager of Macleay Entertainment\, a production company that promotes live music in the Hastings and Macleay Valleys.\n  The perfect entertainer for our easy listening Sunday Sessions! \n  Grab your wine or your thermos\, maybe a few snacks\, and get on down to Oddfellows Hall for an afternoon of sheer delight. See you there!\n  Listen here.\n
DTSTAMP:20190227T064558Z
END:VEVENT
END:VCALENDAR
