BEGIN:VCALENDAR
VERSION:2.0
METHOD:PUBLISH
BEGIN:VEVENT
UID:WILD_APRICOT_EVENT_3065382_SESSION_1
DTSTART:20180915T220000Z
DTEND:20180916T040000Z
SUMMARY:Gladstone Quality Markets
LOCATION:Gladstone
DESCRIPTION:https://mvarts.org.au/event-3065382\n\n\n\n  A showcase to sell local\, quality home made and grown products.\n\n  Live music with Jim & Sue!\n  Tasty foods!\n  Bargains!\n
DTSTAMP:20260424T161835Z
END:VEVENT
END:VCALENDAR
