BEGIN:VCALENDAR
VERSION:2.0
METHOD:PUBLISH
BEGIN:VEVENT
UID:WILD_APRICOT_EVENT_3073272_SESSION_1
DTSTART:20190112T080000Z
DTEND:20190112T080000Z
SUMMARY:Joe Robinson at the HOT CLUB @ FREDO
LOCATION:Frederickton School of Arts Hall
DESCRIPTION:https://mvarts.org.au/event-3073272\n\n\n\n  "Once in a great while a young guitarist captures the attention of music lovers early in his career and manages to sustain this interest as he matures creatively and sheds the prodigy label. Joe Robinson is one of those rare talents."\n  We couldn't agree more!\n  Your one chance to catch Joe on his annual summer break in Australia. Right here in the Macleay Valley! This year Joe & Family will perform at the Frederickton School of Arts.\n  NEWS: the seating will be HOT CLUB format\, with tables & BYO everything!\n  *with special guest MINNIE MARKS!\n  160 seats available\, first come first served. BOOK NOW! This WILL sell out.\n
DTSTAMP:20260424T154411Z
END:VEVENT
END:VCALENDAR
