BEGIN:VCALENDAR
VERSION:2.0
METHOD:PUBLISH
BEGIN:VEVENT
UID:WILD_APRICOT_EVENT_3129489_SESSION_1
DTSTART:20181201T083000Z
DTEND:20181201T083000Z
SUMMARY:Gleny Rae Virus and her Playboys
LOCATION:CWA Rooms\, 47 Landsborough Street\, South West Rocks
DESCRIPTION:https://mvarts.org.au/event-3129489\n\n\n\n  South West Rocks Arts Council presents Gleny Rae Virus and her Playboys on their CD Launch tour! \n  Diggin' A Hole is the latest offering from the band\, a string-laden\, bluegrass-infused album about lust\, grief\, environmental concerns and female bushrangers! Supported by the extraordinary Archer\, Gleny Rae Virus will be backed by her talented playboys\, Robbie Long\, Pete Fidler & Sam Martin.\n  Tickets are $20 from Tickethost.\n  BOOK NOW!\n
DTSTAMP:20190227T064314Z
END:VEVENT
END:VCALENDAR
