BEGIN:VCALENDAR
VERSION:2.0
METHOD:PUBLISH
BEGIN:VEVENT
UID:WILD_APRICOT_EVENT_3154076_SESSION_1
DTSTART:20190301T083000Z
DTEND:20190301T083000Z
SUMMARY:Flickerfest on Tour (session 1 of 3)
LOCATION:
DESCRIPTION:https://mvarts.org.au/event-3154076\n\n\n\n  Flickerfest returns to the Macleay Valley in 2019 at three locations!\n  Crescent Head. Kempsey. South West Rocks. Book your tickets now!\n  \n\n
DTSTAMP:20260424T154535Z
END:VEVENT
BEGIN:VEVENT
UID:WILD_APRICOT_EVENT_3154076_SESSION_2
DTSTART:20190302T083000Z
DTEND:20190302T083000Z
SUMMARY:Flickerfest on Tour (session 2 of 3)
LOCATION:
DESCRIPTION:https://mvarts.org.au/event-3154076\n\n\n\n  Flickerfest returns to the Macleay Valley in 2019 at three locations!\n  Crescent Head. Kempsey. South West Rocks. Book your tickets now!\n  \n\n
DTSTAMP:20260424T154535Z
END:VEVENT
BEGIN:VEVENT
UID:WILD_APRICOT_EVENT_3154076_SESSION_3
DTSTART:20190303T030000Z
DTEND:20190303T030000Z
SUMMARY:Flickerfest on Tour (session 3 of 3)
LOCATION:
DESCRIPTION:https://mvarts.org.au/event-3154076\n\n\n\n  Flickerfest returns to the Macleay Valley in 2019 at three locations!\n  Crescent Head. Kempsey. South West Rocks. Book your tickets now!\n  \n\n
DTSTAMP:20260424T154535Z
END:VEVENT
END:VCALENDAR
