BEGIN:VCALENDAR
VERSION:2.0
METHOD:PUBLISH
BEGIN:VEVENT
UID:WILD_APRICOT_EVENT_3209914_SESSION_1
DTSTART:20190616T040000Z
DTEND:20190616T040000Z
SUMMARY:Daniel Champagne at Oddfellows Hall
LOCATION:22 Kemp St\, West Kempsey
DESCRIPTION:https://mvarts.org.au/event-3209914\n\nDaniel's performances are simply put\, astonishing. But don't just take our word for it. Read below what others have said. Then book a ticket. Do it. Now.\n\n  \n\n  “Today I saw the future of Folk – festival goers flocking in their thousands towards the main stage to witness the young musical phenomenon from Australia dish out an absolute show-stopper at the evening’s end.” \n – Firefly Column\, USA \n  “Watching Daniel Champagne perform is a once in a lifetime experience. He is a true prodigy that plays like no one else could possibly play unless they spent at least two lifetimes studying the art.” – BW Review\, New Zealand \n  “The word prodigy seems to entirely fall short of this soft-spoken young man’s skills\, he coaxes sounds and melodies out of his instrument that literally drop jaws.” – The Calgary Herald\, Canada \n  “The superb talent of Daniel Champagne can’t be explained by mere words\; it must be seen to be believed.” – FasterLouder\, Australia \n  “There’s a reason Champagne has an amazing reputation as a live performer.” – Timber And Steel\, Australia \n  “Within the boundaries of Folk\, Champagne is an expert.” – Tone Deaf \n  “Champagne has proven that he’s a talent you can’t possibly ignore. His live shows have drawn rapturous responses from all corners.” – Rhythms Magazine\n  Watch a video clip!\n\n
DTSTAMP:20190227T064119Z
END:VEVENT
END:VCALENDAR
