BEGIN:VCALENDAR
VERSION:2.0
METHOD:PUBLISH
BEGIN:VEVENT
UID:WILD_APRICOT_EVENT_3223944_SESSION_1
DTSTART:20190209T080000Z
DTEND:20190209T080000Z
SUMMARY:Claire Anne Taylor - ALBUM LAUNCH
LOCATION:Frederickton School of Arts Hall
DESCRIPTION:https://mvarts.org.au/event-3223944\n\n\n\n  Claire Anne Taylor launches her second studio album All The Words - a soulful masterpiece from the Tasmanian songstress - here at Frederickton School of Arts.\n  Inspired by a combination of fantasy and personal experience\, All The Words explores major themes of hope\, love and loss\, invoking a sense of empathy and understanding through her storytelling.\n  Recorded in a wooden cabin in Tasmania's Huon Valley\, by esteemed producer Chris Townend (Portishead\, Silverchair\, Tim Finn\, Ngaiire) Taylor's powerful\, smokey voice is set amongst a rich musical palette of soul\, folk\, gospel and blues.\n  Penning songs that are visually rich and emotionally revealing\, and delivering them in a soulful performance of both strength and fragility\, All The Words proves Claire Anne Taylor is one of the most significant songwriters of our time.\n  Watch a video CLIP\n  BOOK NOW!\n
DTSTAMP:20190227T064213Z
END:VEVENT
END:VCALENDAR
