BEGIN:VCALENDAR
VERSION:2.0
METHOD:PUBLISH
BEGIN:VEVENT
UID:WILD_APRICOT_EVENT_3245044_SESSION_1
DTSTART:20190328T070000Z
DTEND:20190329T080000Z
SUMMARY:BANJO
LOCATION:Bandbox Kempsey and South West Roxy Cinema
DESCRIPTION:https://mvarts.org.au/event-3245044\n\n\n\n  “THE ENTIRE PERFORMANCE IS POETRY” – Joanna Silver\n  An exhilarating ride of Contemporary Dance\, the music of COLDPLAY and the spoken word of A.B ‘Banjo’ Paterson. This production is like no other.\n  BANJO brilliantly intertwines the life of Banjo Paterson through arrangements of COLDPLAY’s greatest hits. Performed live by some of Australia’s leading performance talent.\n  WORLD CLASS. THE FUSION OF CONTEMPORARY DANCE\, AUSTRALIAN ICONIC POETRY AND MODERN MUSIC IS A TRULY UNIQUE EXPERIENCE. – Dale Carr\n  Paterson’s beautiful verse – Clancy of the Overflow\, As Long As Your Eyes Are Blue\, The Man From Snowy River\, Waltzing Matilda will blend with Clocks\, Yellow\, Fix You\, Paradise\, Viva La Vida and more.\n  “A BRILLIANT COLLABORATION OF TALENT” – FOCUS Magazine\n  WATCH VIDEO CLIP\n  TICKETS FOR SWR\n  TICKETS FOR KEMPSEY\n
DTSTAMP:20260424T154316Z
END:VEVENT
END:VCALENDAR
