BEGIN:VCALENDAR
VERSION:2.0
METHOD:PUBLISH
BEGIN:VEVENT
UID:WILD_APRICOT_EVENT_3264602_SESSION_1
DTSTART:20190216T030000Z
DTEND:20190216T030000Z
SUMMARY:High Tea Boogie feat. Delma & Pete
LOCATION:Oddfellows Hall\, 22 Kemp St\, West Kempsey
DESCRIPTION:https://mvarts.org.au/event-3264602\n\n\n\n  Bring your friends and family along for a fun afternoon of music\, dancing and high tea with local favourites Delma Buczko and Peter White!\n  Entry is just $5. Tea and scones available!\n
DTSTAMP:20190227T064152Z
END:VEVENT
END:VCALENDAR
