BEGIN:VCALENDAR
VERSION:2.0
METHOD:PUBLISH
BEGIN:VEVENT
UID:WILD_APRICOT_EVENT_3323505_SESSION_1
DTSTART:20190411T090000Z
DTEND:20190411T090000Z
SUMMARY:Soul Sangeet
LOCATION:Oddfellows Hall\, West Kempsey
DESCRIPTION:https://mvarts.org.au/event-3323505\n\n\nHealing Indian sounds return to Kempsey\n  Two extraordinary musicians\, Sangeet Mishra and Shivam Rath\, are coming together for their Soul Sangeet tour with a new style concept of Indian Classical music - sounds to heal the soul.\n  Sangeet means sound or music in Sanskrit and is also the name of Sangeet Mishra\, master of the Sarangi\, an ancient Indian violin\, who hails from eight generations of Sarangi players from Varanassi\, India. He previously performed in Kempsey with acclaimed Tibetan musician Tenzin Choegyal.\n  Shivam Rath blends a unique 22 string slide guitar/sitar gliding with a crystal ball. His fusion instrument symbolises a cross culture of harmony in sound and music. Only one year ago\, Shivam and singer Mico Sundari enchanted the Kempsey audience with their beautiful combination of sounds.\n  Sangeet and Shivam are accompanied on Tabla by Massimo Bidin\, originally from Italy and now living in Melbourne\, an upcoming tabla player and world music percussionist. Last year he played in Kempsey with Shivam and Mico.\n  This event incorporates different musicians\, instruments\, bridging the gap between world and local music thus linking with a wider world music culture.\n  Tickets: $25 pre-booked\, $30 at the door.\nBOOK NOW!  For a taste of Soul Sangeet: https://youtu.be/SartBzHHMSY\n  For more information about Shivam and his slide guitar www.crystalslide.com\n  \n\n
DTSTAMP:20260424T155041Z
END:VEVENT
END:VCALENDAR
