BEGIN:VCALENDAR
VERSION:2.0
METHOD:PUBLISH
BEGIN:VEVENT
UID:WILD_APRICOT_EVENT_3342651_SESSION_1
DTSTART:20190818T040000Z
DTEND:20190818T040000Z
SUMMARY:Sydney Conservatorium of Music Wind Quintet
LOCATION:Oddfellows Hall\, 22 Kemp St\, West Kempsey
DESCRIPTION:https://mvarts.org.au/event-3342651\n\n\n\n  This year’s New Northern Tour by students of the Sydney Conservatorium of Music will feature a wind quintet – Flute\, Oboe\, Clarinet\, Bassoon and French Horn.\n  They will play an eclectic mix of classical\, modern classical and jazz\, and they are sure to delight as this tour does every year. Come and hear these fine young musicians in the acoustic wonder that is the Oddfellows Hall!\n  Don’t miss out! Grab a ticket today!\n
DTSTAMP:20260424T154724Z
END:VEVENT
END:VCALENDAR
