BEGIN:VCALENDAR
VERSION:2.0
METHOD:PUBLISH
BEGIN:VEVENT
UID:WILD_APRICOT_EVENT_3344853_SESSION_1
DTSTART:20190519T050000Z
DTEND:20190519T050000Z
SUMMARY:Grace & Hugh
LOCATION:Frederickton School of Arts
DESCRIPTION:https://mvarts.org.au/event-3344853\n\n\n\n  Grace + Hugh is a musical collaboration between songwriter/performers Grace Hickey and Hugh Scott Murray. For the last 2 years the pair have pushed their little upright piano down country side roads and back alleys\, writing a catalogue of contemporary songs influenced by blues\, roots and soul music. The pair have just recorded their first album together\, featuring co-writes with Don Walker (Cold Chisel) and Bones Hillman (Midnight Oil) and a stellar band of players based between Sydney and Nashville\, Tennessee. Grace + Hugh are currently touring their self-titled record to halls and theatres across regional Australia.\n  They will be playing at Frederickton School of Arts Hall at 3pm on Sunday the 19th of May\, and tickets are just $30 per person.\n  It's BYO drinks and snacks and you can grab a ticket from Fredo Newsagency or online using the link below.\n  BOOK TICKETS\n
DTSTAMP:20260424T154434Z
END:VEVENT
END:VCALENDAR
