BEGIN:VCALENDAR
VERSION:2.0
METHOD:PUBLISH
BEGIN:VEVENT
UID:WILD_APRICOT_EVENT_3347581_SESSION_1
DTSTART:20190803T073000Z
DTEND:20190803T073000Z
SUMMARY:Gaol After Dark - Fundraiser
LOCATION:Trial Bay Gaol
DESCRIPTION:https://mvarts.org.au/event-3347581\n\n\n\n  An evening of art and entertainment at the Gaol\, including the announcement of the Sculpture in the Gaol Judge’s Art Prize. Join in this intimate soirée to raise funds for the 2019 artist program and prize pool. Only 100 tickets available.\n  Catered food plate included\, craft beer and wines available to purchase.\n  \n\n
DTSTAMP:20260424T154526Z
END:VEVENT
END:VCALENDAR
