BEGIN:VCALENDAR
VERSION:2.0
METHOD:PUBLISH
BEGIN:VEVENT
UID:WILD_APRICOT_EVENT_3350511_SESSION_1
DTSTART:20190410T080000Z
DTEND:20190410T080000Z
SUMMARY:MVAC AGM
LOCATION:Oddfellows Hall
DESCRIPTION:https://mvarts.org.au/event-3350511\n\n\n  Macleay Valley Arts Council Annual General Meeting\n  Yes folks it's that time of the year again!\n  Come along and have your say\, and elect a new committee to run this thing.\n  Maybe you'd like to join the committee?\n  \n\n  \n\n
DTSTAMP:20260424T155739Z
END:VEVENT
END:VCALENDAR
