BEGIN:VCALENDAR
VERSION:2.0
METHOD:PUBLISH
BEGIN:VEVENT
UID:WILD_APRICOT_EVENT_3359817_SESSION_1
DTSTART:20190802T230000Z
DTEND:20190830T063000Z
SUMMARY:Sculpture in the Gaol exhibition
LOCATION:Trial Bay Gaol
DESCRIPTION:https://mvarts.org.au/event-3359817\n\n\n\n  Running for the month of August within the walls of Trial Bay Gaol in Arakoon National Park\, near South West Rocks. Admission $16/$8.\n  \n\n
DTSTAMP:20260424T173932Z
END:VEVENT
END:VCALENDAR
