BEGIN:VCALENDAR
VERSION:2.0
METHOD:PUBLISH
BEGIN:VEVENT
UID:WILD_APRICOT_EVENT_3433464_SESSION_1
DTSTART:20190629T083000Z
DTEND:20190629T083000Z
SUMMARY:Curry & Culture night
LOCATION:South West Rocks Primary School
DESCRIPTION:https://mvarts.org.au/event-3433464\n\n\n\n  Celebrate the cuisine & culture of India with a three-course meal at this exclusive soiree in South West Rocks. These legendary evenings always sell-out in advance\, so book your tickets now! $45 per person. Bookings close on Saturday\, June 22. No door sales.\n BYO drinks.\n  Tickets are on sale at Osborne's Pharmacist Advice or online at... \n BOOK NOW!\n
DTSTAMP:20260424T154425Z
END:VEVENT
END:VCALENDAR
