BEGIN:VCALENDAR
VERSION:2.0
METHOD:PUBLISH
BEGIN:VEVENT
UID:WILD_APRICOT_EVENT_3467559_SESSION_1
DTSTART:20190817T000000Z
DTEND:20190817T013000Z
SUMMARY:INSPIRED TO DRAW
LOCATION:Trial Bay Gaol\, Arakoon
DESCRIPTION:https://mvarts.org.au/event-3467559\n\n\n\n  Fiona Scope returns to the Gaol to help you improve your drawing skills. For beginners (aged 15 years and above)\, or experienced artists who would like to improve their drawing skills.\n  Topics covered will include:\n      * Contour Drawing Techniques\n\n        * Negative space verse positive space\n\n        * Portraiture\n\n  We will also cover the following topics in detail:\n      * The role of left and right hemispheres of the brain when drawing. Reference: Drawing from the right side of the brain\, Dr Betty Edwards.\n\n        * The history of illustration. Reference: Leonardo on the body.\n\n  Session times: 10am for 1.5 hours\n  Cost: $25 per person\, includes Gaol entry.\n  This workshop is limited to 20 spaces. Book and pay in advance to reserve your spot.\n  \n\n
DTSTAMP:20260424T172138Z
END:VEVENT
END:VCALENDAR
