BEGIN:VCALENDAR
VERSION:2.0
METHOD:PUBLISH
BEGIN:VEVENT
UID:WILD_APRICOT_EVENT_3484568_SESSION_1
DTSTART:20190727T090000Z
DTEND:20190727T090000Z
SUMMARY:Oddfellows Unplugged
LOCATION:Oddfellows Hall
DESCRIPTION:https://mvarts.org.au/event-3484568\n\n\n\n  The place to get your performance started!\n  Great acoustics\, friendly people and warm applause!\n  Bring your friends to cheer you on!\n  $5 per person\, light supper is included.\n  \n\n
DTSTAMP:20260424T154454Z
END:VEVENT
END:VCALENDAR
