BEGIN:VCALENDAR
VERSION:2.0
METHOD:PUBLISH
BEGIN:VEVENT
UID:WILD_APRICOT_EVENT_3488392_SESSION_1
DTSTART:20190825T040000Z
DTEND:20190825T040000Z
SUMMARY:Down to Earth: Concert with Benjamin van Haeff
LOCATION:22 Kemp St\, West Kempsey
DESCRIPTION:https://mvarts.org.au/event-3488392\n\n\n\n  Song Poet and Bard\, Benjamin van Haeff has been delighting 'Life Lovers' throughout Europe and the UK and now returns for a series of intimate shows on the Mid North Coast...the very place where his journey began.\n  Nothing about Benjamin’s life fits into a box\, and it’s no different with his music. On this home coming tour\, he’ll be featuring songs from his ‘Down to Earth’ CD\, as well as many weird and wonderful stories and nuggets of inspiration mined from his pilgrimages abroad. His personal musical journey is featured in the award winning film “Beyond the Fear of Singing” and as an artist\, he passionately believes that something special happens when communities gather in song and celebration. In the challenging times we live in\, these soul-crafted songs offer us courage\, hope and connection.\n  “Gentle with an undercurrent of power and open-heartedness. Bard indeed!” - Jana Jopson\, Earth Rising USA\n  LISTEN HERE\n  WATCH HERE\n  \n\n  \n\n
DTSTAMP:20260424T172404Z
END:VEVENT
END:VCALENDAR
