BEGIN:VCALENDAR
VERSION:2.0
METHOD:PUBLISH
BEGIN:VEVENT
UID:WILD_APRICOT_EVENT_3490456_SESSION_1
DTSTART:20190814T080000Z
DTEND:20190814T080000Z
SUMMARY:MVAC General Meeting
LOCATION:Oddfellows Hall\, 22 Kemp St\, West Kempsey
DESCRIPTION:https://mvarts.org.au/event-3490456\n\n\n  Macleay Valley Arts Council General Meeting\n  Yes folks it's that time of the month again!\n  Maybe you've got some ideas to share?\n\n  Come along and have your say\, and let everyone know what's been happening with your sub-committee.\n
DTSTAMP:20260424T154619Z
END:VEVENT
END:VCALENDAR
