BEGIN:VCALENDAR
VERSION:2.0
METHOD:PUBLISH
BEGIN:VEVENT
UID:WILD_APRICOT_EVENT_3525070_SESSION_1
DTSTART:20190914T220000Z
DTEND:20190915T030000Z
SUMMARY:Gladstone Quality Market
LOCATION:Gladstone
DESCRIPTION:https://mvarts.org.au/event-3525070\n\n\n\n  A showcase to sell local\, quality home made and grown products.\n\n  Live music! Tasty foods! Bargains!\n
DTSTAMP:20260424T190612Z
END:VEVENT
END:VCALENDAR
