BEGIN:VCALENDAR
VERSION:2.0
METHOD:PUBLISH
BEGIN:VEVENT
UID:WILD_APRICOT_EVENT_3525312_SESSION_1
DTSTART:20191019T210000Z
DTEND:20191020T020000Z
SUMMARY:Gladstone Quality Market
LOCATION:Gladstone
DESCRIPTION:https://mvarts.org.au/event-3525312\n\n\n\n  A showcase to sell local\, quality home made and grown products.\n\n  Live music! Tasty foods! Bargains!\n
DTSTAMP:20260424T174407Z
END:VEVENT
END:VCALENDAR
