BEGIN:VCALENDAR
VERSION:2.0
METHOD:PUBLISH
BEGIN:VEVENT
UID:WILD_APRICOT_EVENT_3540552_SESSION_1
DTSTART:20190915T040000Z
DTEND:20190915T040000Z
SUMMARY:FULL MOON with Delma\, Pete & Alf
LOCATION:22 Kemp St\, West Kempsey
DESCRIPTION:https://mvarts.org.au/event-3540552\n\n\n  You've seen this trio performing at many venues across the Macleay Valley\, from pubs & clubs to markets and private parties. They are always in demand\, and always crowd pleasers. Now\, catch them in their very own show at Oddfeffows.\n  You know the drill\, BYO everything for a cozy Sunday arvo session in the acoustic wonder of the Oddfellows Hall. Book a ticket now\, and grab your picnic basket for FULL MOON.\n  \n\n  \n\n
DTSTAMP:20260424T171920Z
END:VEVENT
END:VCALENDAR
