BEGIN:VCALENDAR
VERSION:2.0
METHOD:PUBLISH
BEGIN:VEVENT
UID:WILD_APRICOT_EVENT_3569645_SESSION_1
DTSTART:20191115T080000Z
DTEND:20191115T110000Z
SUMMARY:Stuarts Point Players Presents (session 1 of 3)
LOCATION:South West Rocks\, Stuarts Point\, West Kempsey
DESCRIPTION:https://mvarts.org.au/event-3569645\n\n\n\n  The Stuarts Point Players return to the stage this November with two one-act comedies\, which are sure to get you laughing. \n  The first half of the Players’ production has just three characters on stage\, for the comedy ‘GLASS’. A fatigued matinee idol on the verge of a nervous breakdown comes home one day from his long-running Broadway hit and discovers an audience watching him through the plate glass window of his high-rise apartment. An excellent Twilight Zone-style play.\n  The second half features six actors in ‘ASYLUM’. This play is set in a mental institution group therapy session. The four patients have adopted the personae of a fairy tale character to cope with the disturbing reality of how and why they were committed. All will be revealed. Or will it?\n  The plays will open at the South West Rocks School of Arts (Roxy Cinema) on Friday\, November 15\, and then move to Stuarts Point on Saturday\, November 16. On Sunday\, November 17\, there will be a matinee performance at the Oddfellows Hall in West Kempsey.\n  BYO everything to Stuarts Point and Kempsey\, with table seating.\n Roxy Cinema is fully licenced and has theatre seating.\n  *Both plays are rated MA and contain sexual references and occasional strong language.\n
DTSTAMP:20260424T154446Z
END:VEVENT
BEGIN:VEVENT
UID:WILD_APRICOT_EVENT_3569645_SESSION_2
DTSTART:20191116T080000Z
DTEND:20191116T110000Z
SUMMARY:Stuarts Point Players Presents (session 2 of 3)
LOCATION:South West Rocks\, Stuarts Point\, West Kempsey
DESCRIPTION:https://mvarts.org.au/event-3569645\n\n\n\n  The Stuarts Point Players return to the stage this November with two one-act comedies\, which are sure to get you laughing. \n  The first half of the Players’ production has just three characters on stage\, for the comedy ‘GLASS’. A fatigued matinee idol on the verge of a nervous breakdown comes home one day from his long-running Broadway hit and discovers an audience watching him through the plate glass window of his high-rise apartment. An excellent Twilight Zone-style play.\n  The second half features six actors in ‘ASYLUM’. This play is set in a mental institution group therapy session. The four patients have adopted the personae of a fairy tale character to cope with the disturbing reality of how and why they were committed. All will be revealed. Or will it?\n  The plays will open at the South West Rocks School of Arts (Roxy Cinema) on Friday\, November 15\, and then move to Stuarts Point on Saturday\, November 16. On Sunday\, November 17\, there will be a matinee performance at the Oddfellows Hall in West Kempsey.\n  BYO everything to Stuarts Point and Kempsey\, with table seating.\n Roxy Cinema is fully licenced and has theatre seating.\n  *Both plays are rated MA and contain sexual references and occasional strong language.\n
DTSTAMP:20260424T154446Z
END:VEVENT
BEGIN:VEVENT
UID:WILD_APRICOT_EVENT_3569645_SESSION_3
DTSTART:20191117T030000Z
DTEND:20191117T060000Z
SUMMARY:Stuarts Point Players Presents (session 3 of 3)
LOCATION:South West Rocks\, Stuarts Point\, West Kempsey
DESCRIPTION:https://mvarts.org.au/event-3569645\n\n\n\n  The Stuarts Point Players return to the stage this November with two one-act comedies\, which are sure to get you laughing. \n  The first half of the Players’ production has just three characters on stage\, for the comedy ‘GLASS’. A fatigued matinee idol on the verge of a nervous breakdown comes home one day from his long-running Broadway hit and discovers an audience watching him through the plate glass window of his high-rise apartment. An excellent Twilight Zone-style play.\n  The second half features six actors in ‘ASYLUM’. This play is set in a mental institution group therapy session. The four patients have adopted the personae of a fairy tale character to cope with the disturbing reality of how and why they were committed. All will be revealed. Or will it?\n  The plays will open at the South West Rocks School of Arts (Roxy Cinema) on Friday\, November 15\, and then move to Stuarts Point on Saturday\, November 16. On Sunday\, November 17\, there will be a matinee performance at the Oddfellows Hall in West Kempsey.\n  BYO everything to Stuarts Point and Kempsey\, with table seating.\n Roxy Cinema is fully licenced and has theatre seating.\n  *Both plays are rated MA and contain sexual references and occasional strong language.\n
DTSTAMP:20260424T154446Z
END:VEVENT
END:VCALENDAR
