BEGIN:VCALENDAR
VERSION:2.0
METHOD:PUBLISH
BEGIN:VEVENT
UID:WILD_APRICOT_EVENT_3574472_SESSION_1
DTSTART:20200131T080000Z
DTEND:20200131T080000Z
SUMMARY:Festival of Small Halls
LOCATION:Frederickton School of Arts Hall
DESCRIPTION:https://mvarts.org.au/event-3574472\n\n\n\n  Festival of Small Halls is a series of tours that takes the best folk and contemporary acoustic artists performing at two of our country’s largest festivals\, and sends them on the road to tiny halls in communities all over Australia.\n  It is produced by Woodfordia Inc in partnership with many other wonderful Australian festivals\, regional partners and great lovers and supporters of folk and contemporary acoustic music.\n  Performers for the Summer Tour 2020: Cygnet to Illawarra are Scotland's Siobhan Miller and Australia's Jack Carty. Full details are here.\n  NEWS: the seating will be HOT CLUB format\, with tables & BYO everything!\n\n  160 seats available\, first come first served.\n BOOK NOW! This WILL sell out.\n  CLICK TO BOOK\n
DTSTAMP:20260424T154326Z
END:VEVENT
END:VCALENDAR
