BEGIN:VCALENDAR
VERSION:2.0
METHOD:PUBLISH
BEGIN:VEVENT
UID:WILD_APRICOT_EVENT_3597092_SESSION_1
DTSTART:20191206T070000Z
DTEND:20191206T080000Z
SUMMARY:Ukulele Workshop (session 1 of 2)
LOCATION:Oddfellows Hall\, West Kempsey
DESCRIPTION:https://mvarts.org.au/event-3597092\n\n\n  Ukulele workshops with Liz Kitney.\n  \n\n
DTSTAMP:20260424T160551Z
END:VEVENT
BEGIN:VEVENT
UID:WILD_APRICOT_EVENT_3597092_SESSION_2
DTSTART:20191206T083000Z
DTEND:20191206T093000Z
SUMMARY:Ukulele Workshop (session 2 of 2)
LOCATION:Oddfellows Hall\, West Kempsey
DESCRIPTION:https://mvarts.org.au/event-3597092\n\n\n  Ukulele workshops with Liz Kitney.\n  \n\n
DTSTAMP:20260424T160551Z
END:VEVENT
END:VCALENDAR
