BEGIN:VCALENDAR
VERSION:2.0
METHOD:PUBLISH
BEGIN:VEVENT
UID:WILD_APRICOT_EVENT_3597100_SESSION_1
DTSTART:20191205T073000Z
DTEND:20191205T073000Z
SUMMARY:Djembe Workshop
LOCATION:Oddfellows Hall\, West Kempsey
DESCRIPTION:https://mvarts.org.au/event-3597100\n\n\n\n  Djembe Cajon Percussion Class with Djembe Master Rob Kitney\n  Learn how to play Djembe drums or Cajon box drum as an Ensemble\n  To understand what is the role of the drummer/Percussionist in a band or group\n  How to learn Musical Notation\, background to rhythms\, syncopation\, timing and hand coordination.\n  Workshop covers\n      * Incorporating hand drums to your band or group\n\n        * Exploring Rhythm patterns\n\n        * Learning how different patterns work with songs\n\n        * What is a syncopated rhythm and when to use it.\n\n  Bring along your djembe\, Cajon\, bongos\, ukulele to tap on\, bucket or esky\n  \n\n
DTSTAMP:20260424T154404Z
END:VEVENT
END:VCALENDAR
