BEGIN:VCALENDAR
VERSION:2.0
METHOD:PUBLISH
BEGIN:VEVENT
UID:WILD_APRICOT_EVENT_3607769_SESSION_1
DTSTART:20191214T230000Z
DTEND:20191215T070000Z
SUMMARY:Red Cedar Festival - STALL HOLDER REGISTRATION
LOCATION:Trial Bay Gaol\, Arakoon
DESCRIPTION:https://mvarts.org.au/event-3607769\n\n\n\n  Don't miss this one! Book your stall site today!\n  Open air festival in the grounds of Trial Bay Gaol\, with food stalls\, market stall\, services stalls\, live music all day.\n  Proudly presented by Macleay Valley Arts Council and Macleay Entertainment.\n  \n\n
DTSTAMP:20260424T172019Z
END:VEVENT
END:VCALENDAR
