BEGIN:VCALENDAR
VERSION:2.0
METHOD:PUBLISH
BEGIN:VEVENT
UID:WILD_APRICOT_EVENT_3624622_SESSION_1
DTSTART:20191214T230000Z
DTEND:20191215T070000Z
SUMMARY:Red Cedar Festival
LOCATION:Trial Bay Gaol
DESCRIPTION:https://mvarts.org.au/event-3624622\n\n\n\n  RED CEDAR FESTIVAL 2019 returns DECEMBER 15 with BLUES BY THE BAY! -\n  * LIVE MUSIC * MARKETS * FOOD * MORE! *\n  Free community event.\n  Supported by Macleay Entertainment.\n  \n\n
DTSTAMP:20260424T172311Z
END:VEVENT
END:VCALENDAR
