BEGIN:VCALENDAR
VERSION:2.0
METHOD:PUBLISH
BEGIN:VEVENT
UID:WILD_APRICOT_EVENT_3624644_SESSION_1
DTSTART:20200124T080000Z
DTEND:20200124T080000Z
SUMMARY:Cass Eager with special guest Nathan Beretta
LOCATION:South West Rocks School of Arts
DESCRIPTION:https://mvarts.org.au/event-3624644\n\n\n\n  Named by folk-blog Timber and Steel as ‘Janis Joplin and Ben Harper’s love-child’\, Cass Eager’s mix of raw soul\, husky blues and light-hearted ditties are all punctuated with her unique whisky-soaked vocals. Emotive\, slightly raspy\, at times tender and at times powerful\, Cass’ authentic voice is always the driving force of her music.\n  Internationally renowned but defiantly grassroots\, Cass Eager is one of those rare artists that’s mastered everything from the foot-stomping blues to a sensual slow burner. She’s been called ‘one of the best female singers in Australia’ by Richard Glover (ABC)\, ’the girl with the golden voice’ (Daily Examiner)\, and Diesel claims ‘she has a voice so sweet she could sing the phone book and you wouldn’t get bored’.\n  Cass’ music has taken her to some of the world’s most far-flung places. Performing in diverse locations from CBGB’s in NYC to the beachfront huts of Dili has given Eager a depth and richness that comes from experience. She’s done several ‘tours of duty’ entertaining Australian troops\, from Egypt to East Timor (with Paul Kelly and Peter Garrett)\, the Middle East to the Solomon Islands. She’s toured through North America and Canada – alone waith her acoustic guitar\; alongside Ash Grunwald\; and with US musician Bob Egan (Blue Rodeo\; ex-Wilco). Cass also performed for Prince Harry during his Australian visit\, and after being invited back for a repeat performance\, ended up giving the prince guitar lessons.\n  BOOK TICKETS\n
DTSTAMP:20260424T172239Z
END:VEVENT
END:VCALENDAR
