BEGIN:VCALENDAR
VERSION:2.0
METHOD:PUBLISH
BEGIN:VEVENT
UID:WILD_APRICOT_EVENT_3628141_SESSION_1
DTSTART:20191129T070000Z
DTEND:20191129T070000Z
SUMMARY:2040
LOCATION:Oddfellows Hall\, West Kempsey
DESCRIPTION:https://mvarts.org.au/event-3628141\n\n\n\n  Award-winning director Damon Gameau (That Sugar Film) embarks on a journey to explore what the future could look like by the year 2040 if we simply embraced the best solutions already available to us to improve our planet\, and shifted them rapidly into the mainstream.\n\n  Macleay Living Sustainably & School Strike for Climate are proud to present a screening of the film 2040 featuring guest performances by local high school students.\n  Come along for an inspiring\, positive community event.\n Doors open at 6pm\n Tickets available online $10\n Tickets at the door $12\n BYO keepcup for tea & refreshments.\n
DTSTAMP:20260424T172146Z
END:VEVENT
END:VCALENDAR
